BEGIN:VCALENDAR
VERSION:2.0
PRODID:-//Fowlmere Parish Council//Meeting Calendar//EN
CALSCALE:GREGORIAN
METHOD:PUBLISH
BEGIN:VEVENT
UID:70742-20240206@fowlmereparishcouncil.gov.uk
DTSTAMP:20260421T081426Z
DTSTART;VALUE=DATE:20240206
DTEND;VALUE=DATE:20240207
SUMMARY:Planning Committee Meeting &#8211\\; 6th February 2024
DESCRIPTION:Planning Committee Meeting\nView details: https://fowlmereparishcouncil.gov.uk/meetings/planning-committee-meeting-6th-february-2024-2/
URL:https://fowlmereparishcouncil.gov.uk/meetings/planning-committee-meeting-6th-february-2024-2/
END:VEVENT
END:VCALENDAR
