BEGIN:VCALENDAR
VERSION:2.0
PRODID:-//Fowlmere Parish Council//Meeting Calendar//EN
CALSCALE:GREGORIAN
METHOD:PUBLISH
BEGIN:VEVENT
UID:70747-20240319@fowlmereparishcouncil.gov.uk
DTSTAMP:20260421T095341Z
DTSTART;VALUE=DATE:20240319
DTEND;VALUE=DATE:20240320
SUMMARY:Council Meeting &#8211\\; 19th March 2024
DESCRIPTION:Full Council Meeting\nView details: https://fowlmereparishcouncil.gov.uk/meetings/council-meeting-19th-march-2024/
URL:https://fowlmereparishcouncil.gov.uk/meetings/council-meeting-19th-march-2024/
END:VEVENT
END:VCALENDAR
