BEGIN:VCALENDAR
VERSION:2.0
PRODID:-//Fowlmere Parish Council//Meeting Calendar//EN
CALSCALE:GREGORIAN
METHOD:PUBLISH
BEGIN:VEVENT
UID:71019-19891231@fowlmereparishcouncil.gov.uk
DTSTAMP:20260421T095555Z
DTSTART;VALUE=DATE:19891231
DTEND;VALUE=DATE:19900101
SUMMARY:1980&#8217\\;s
DESCRIPTION:Annual Archives Meeting\nView details: https://fowlmereparishcouncil.gov.uk/meetings/1987/
URL:https://fowlmereparishcouncil.gov.uk/meetings/1987/
END:VEVENT
END:VCALENDAR
