BEGIN:VCALENDAR
VERSION:2.0
PRODID:-//Fowlmere Parish Council//Meeting Calendar//EN
CALSCALE:GREGORIAN
METHOD:PUBLISH
BEGIN:VEVENT
UID:71057-20241231@fowlmereparishcouncil.gov.uk
DTSTAMP:20260423T114325Z
DTSTART;VALUE=DATE:20241231
DTEND;VALUE=DATE:20250101
SUMMARY:2020 &#8211\\; 2024
DESCRIPTION:Annual Archives Meeting\nView details: https://fowlmereparishcouncil.gov.uk/meetings/2020-2022/
URL:https://fowlmereparishcouncil.gov.uk/meetings/2020-2022/
END:VEVENT
END:VCALENDAR
