BEGIN:VCALENDAR
VERSION:2.0
PRODID:-//Fowlmere Parish Council//Meeting Calendar//EN
CALSCALE:GREGORIAN
METHOD:PUBLISH
BEGIN:VEVENT
UID:71198-20240416@fowlmereparishcouncil.gov.uk
DTSTAMP:20260421T081734Z
DTSTART;VALUE=DATE:20240416
DTEND;VALUE=DATE:20240417
SUMMARY:Finance Committee Meeting &#8211\\; 16th April 2024
DESCRIPTION:Finance Committee Meeting\nView details: https://fowlmereparishcouncil.gov.uk/meetings/finance-committee-meeting/
URL:https://fowlmereparishcouncil.gov.uk/meetings/finance-committee-meeting/
END:VEVENT
END:VCALENDAR
