BEGIN:VCALENDAR
VERSION:2.0
PRODID:-//Fowlmere Parish Council//Meeting Calendar//EN
CALSCALE:GREGORIAN
METHOD:PUBLISH
BEGIN:VEVENT
UID:72030-20250128@fowlmereparishcouncil.gov.uk
DTSTAMP:20260423T193550Z
DTSTART;VALUE=DATE:20250128
DTEND;VALUE=DATE:20250129
SUMMARY:Council Meeting &#8211\\; 28th January 2025
DESCRIPTION:Full Council Meeting\nView details: https://fowlmereparishcouncil.gov.uk/meetings/council-meeting-28th-january-2024/
URL:https://fowlmereparishcouncil.gov.uk/meetings/council-meeting-28th-january-2024/
END:VEVENT
END:VCALENDAR
