BEGIN:VCALENDAR
VERSION:2.0
PRODID:-//Fowlmere Parish Council//Meeting Calendar//EN
CALSCALE:GREGORIAN
METHOD:PUBLISH
BEGIN:VEVENT
UID:72041-20250605@fowlmereparishcouncil.gov.uk
DTSTAMP:20260422T083859Z
DTSTART;VALUE=DATE:20250605
DTEND;VALUE=DATE:20250606
SUMMARY:Planning Committee Meeting – 5th June 2025
DESCRIPTION:Planning Committee Meeting\nView details: https://fowlmereparishcouncil.gov.uk/meetings/planning-committee-meeting-5th-june-2025/
URL:https://fowlmereparishcouncil.gov.uk/meetings/planning-committee-meeting-5th-june-2025/
END:VEVENT
END:VCALENDAR
