BEGIN:VCALENDAR
VERSION:2.0
PRODID:-//Fowlmere Parish Council//Meeting Calendar//EN
CALSCALE:GREGORIAN
METHOD:PUBLISH
BEGIN:VEVENT
UID:72113-19791231@fowlmereparishcouncil.gov.uk
DTSTAMP:20260421T094830Z
DTSTART;VALUE=DATE:19791231
DTEND;VALUE=DATE:19800101
SUMMARY:1970&#8217\\;s
DESCRIPTION:Annual Archives Meeting\nView details: https://fowlmereparishcouncil.gov.uk/meetings/1970s/
URL:https://fowlmereparishcouncil.gov.uk/meetings/1970s/
END:VEVENT
END:VCALENDAR
