BEGIN:VCALENDAR
VERSION:2.0
PRODID:-//Fowlmere Parish Council//Meeting Calendar//EN
CALSCALE:GREGORIAN
METHOD:PUBLISH
BEGIN:VEVENT
UID:72948-20260305@fowlmereparishcouncil.gov.uk
DTSTAMP:20260423T100258Z
DTSTART;VALUE=DATE:20260305
DTEND;VALUE=DATE:20260306
SUMMARY:Planning Committee Meeting – 5th March 2026
DESCRIPTION:Planning Committee Meeting\nView details: https://fowlmereparishcouncil.gov.uk/meetings/planning-committee-meeting-3rd-march-2026/
URL:https://fowlmereparishcouncil.gov.uk/meetings/planning-committee-meeting-3rd-march-2026/
END:VEVENT
END:VCALENDAR
