BEGIN:VCALENDAR
VERSION:2.0
PRODID:-//Fowlmere Parish Council//Meeting Calendar//EN
CALSCALE:GREGORIAN
METHOD:PUBLISH
BEGIN:VEVENT
UID:72959-20261006@fowlmereparishcouncil.gov.uk
DTSTAMP:20260423T130725Z
DTSTART;VALUE=DATE:20261006
DTEND;VALUE=DATE:20261007
SUMMARY:Planning Committee Meeting – 6th October 2026
DESCRIPTION:Planning Committee Meeting\nView details: https://fowlmereparishcouncil.gov.uk/meetings/planning-committee-meeting-6th-october-2026/
URL:https://fowlmereparishcouncil.gov.uk/meetings/planning-committee-meeting-6th-october-2026/
END:VEVENT
END:VCALENDAR
