BEGIN:VCALENDAR
VERSION:2.0
PRODID:-//Fowlmere Parish Council//Meeting Calendar//EN
CALSCALE:GREGORIAN
METHOD:PUBLISH
BEGIN:VEVENT
UID:72960-20261105@fowlmereparishcouncil.gov.uk
DTSTAMP:20260423T130726Z
DTSTART;VALUE=DATE:20261105
DTEND;VALUE=DATE:20261106
SUMMARY:Planning Committee Meeting – 5th November 2026
DESCRIPTION:Planning Committee Meeting\nView details: https://fowlmereparishcouncil.gov.uk/meetings/planning-committee-meeting-5th-november-2026/
URL:https://fowlmereparishcouncil.gov.uk/meetings/planning-committee-meeting-5th-november-2026/
END:VEVENT
END:VCALENDAR
