BEGIN:VCALENDAR
VERSION:2.0
PRODID:-//Fowlmere Parish Council - ECPv6.13.2.1//NONSGML v1.0//EN
CALSCALE:GREGORIAN
METHOD:PUBLISH
X-ORIGINAL-URL:https://fowlmereparishcouncil.gov.uk
X-WR-CALDESC:Events for Fowlmere Parish Council
REFRESH-INTERVAL;VALUE=DURATION:PT1H
X-Robots-Tag:noindex
X-PUBLISHED-TTL:PT1H
BEGIN:VTIMEZONE
TZID:Europe/London
BEGIN:DAYLIGHT
TZOFFSETFROM:+0000
TZOFFSETTO:+0100
TZNAME:BST
DTSTART:20260329T010000
END:DAYLIGHT
BEGIN:STANDARD
TZOFFSETFROM:+0100
TZOFFSETTO:+0000
TZNAME:GMT
DTSTART:20261025T010000
END:STANDARD
END:VTIMEZONE
BEGIN:VEVENT
DTSTART;TZID=Europe/London:20260205T193000
DTEND;TZID=Europe/London:20260205T213000
DTSTAMP:20260421T001550
CREATED:20251229T134814Z
LAST-MODIFIED:20251229T134814Z
UID:72990-1770319800-1770327000@fowlmereparishcouncil.gov.uk
SUMMARY:Planning Committee Meeting
DESCRIPTION:**Please note that Planning Committee meetings may be cancelled if there are no planning applications to consider** \nPlease visit the meetings page for minutes and agendas
URL:https://fowlmereparishcouncil.gov.uk/event/planning-committee-meeting-24/
LOCATION:Pavillion Room\, Fowlmere Village Hall
ORGANIZER;CN="Clerk":MAILTO:clerk@fowlmereparishcouncil.gov.uk
END:VEVENT
BEGIN:VEVENT
DTSTART;TZID=Europe/London:20260305T193000
DTEND;TZID=Europe/London:20260305T213000
DTSTAMP:20260421T001550
CREATED:20251229T134903Z
LAST-MODIFIED:20260209T201743Z
UID:72992-1772739000-1772746200@fowlmereparishcouncil.gov.uk
SUMMARY:Planning Committee Meeting
DESCRIPTION:**Please note that Planning Committee meetings may be cancelled if there are no planning applications to consider** \nPlease visit the meetings page for minutes and agendas
URL:https://fowlmereparishcouncil.gov.uk/event/planning-committee-meeting-25/
LOCATION:Pavillion Room\, Fowlmere Village Hall
ORGANIZER;CN="Clerk":MAILTO:clerk@fowlmereparishcouncil.gov.uk
END:VEVENT
BEGIN:VEVENT
DTSTART;TZID=Europe/London:20260317T193000
DTEND;TZID=Europe/London:20260317T213000
DTSTAMP:20260421T001550
CREATED:20251229T134139Z
LAST-MODIFIED:20251229T134139Z
UID:72978-1773775800-1773783000@fowlmereparishcouncil.gov.uk
SUMMARY:Full Council Meeting
DESCRIPTION:Please visit the meetings page for minutes and agendas
URL:https://fowlmereparishcouncil.gov.uk/event/full-council-meeting-12/
LOCATION:Pavillion Room\, Fowlmere Village Hall
ORGANIZER;CN="Clerk":MAILTO:clerk@fowlmereparishcouncil.gov.uk
END:VEVENT
BEGIN:VEVENT
DTSTART;TZID=Europe/London:20260505T193000
DTEND;TZID=Europe/London:20260505T213000
DTSTAMP:20260421T001550
CREATED:20251229T135038Z
LAST-MODIFIED:20251229T135038Z
UID:72996-1778009400-1778016600@fowlmereparishcouncil.gov.uk
SUMMARY:Planning Committee Meeting
DESCRIPTION:**Please note that Planning Committee meetings may be cancelled if there are no planning applications to consider** \nPlease visit the meetings page for minutes and agendas
URL:https://fowlmereparishcouncil.gov.uk/event/planning-committee-meeting-27/
LOCATION:Pavillion Room\, Fowlmere Village Hall
ORGANIZER;CN="Clerk":MAILTO:clerk@fowlmereparishcouncil.gov.uk
END:VEVENT
BEGIN:VEVENT
DTSTART;TZID=Europe/London:20260519T193000
DTEND;TZID=Europe/London:20260519T213000
DTSTAMP:20260421T001550
CREATED:20251229T134221Z
LAST-MODIFIED:20251229T134221Z
UID:72980-1779219000-1779226200@fowlmereparishcouncil.gov.uk
SUMMARY:Full Council Meeting
DESCRIPTION:Please visit the meetings page for minutes and agendas
URL:https://fowlmereparishcouncil.gov.uk/event/full-council-meeting-13/
LOCATION:Pavillion Room\, Fowlmere Village Hall
ORGANIZER;CN="Clerk":MAILTO:clerk@fowlmereparishcouncil.gov.uk
END:VEVENT
BEGIN:VEVENT
DTSTART;TZID=Europe/London:20260602T193000
DTEND;TZID=Europe/London:20260602T213000
DTSTAMP:20260421T001550
CREATED:20251229T135118Z
LAST-MODIFIED:20251229T135118Z
UID:72998-1780428600-1780435800@fowlmereparishcouncil.gov.uk
SUMMARY:Planning Committee Meeting
DESCRIPTION:**Please note that Planning Committee meetings may be cancelled if there are no planning applications to consider** \nPlease visit the meetings page for minutes and agendas
URL:https://fowlmereparishcouncil.gov.uk/event/planning-committee-meeting-28/
END:VEVENT
BEGIN:VEVENT
DTSTART;TZID=Europe/London:20260707T193000
DTEND;TZID=Europe/London:20260707T213000
DTSTAMP:20260421T001550
CREATED:20251229T135225Z
LAST-MODIFIED:20251229T135225Z
UID:73000-1783452600-1783459800@fowlmereparishcouncil.gov.uk
SUMMARY:Planning Committee Meeting
DESCRIPTION:**Please note that Planning Committee meetings may be cancelled if there are no planning applications to consider** \nPlease visit the meetings page for minutes and agendas
URL:https://fowlmereparishcouncil.gov.uk/event/planning-committee-meeting-29/
ORGANIZER;CN="Clerk":MAILTO:clerk@fowlmereparishcouncil.gov.uk
END:VEVENT
BEGIN:VEVENT
DTSTART;TZID=Europe/London:20260721T193000
DTEND;TZID=Europe/London:20260721T213000
DTSTAMP:20260421T001550
CREATED:20251229T134304Z
LAST-MODIFIED:20251229T134504Z
UID:72982-1784662200-1784669400@fowlmereparishcouncil.gov.uk
SUMMARY:Full Council Meeting
DESCRIPTION:Please visit the meetings page for minutes and agendas
URL:https://fowlmereparishcouncil.gov.uk/event/full-council-meeting-14/
ORGANIZER;CN="Clerk":MAILTO:clerk@fowlmereparishcouncil.gov.uk
END:VEVENT
BEGIN:VEVENT
DTSTART;TZID=Europe/London:20260806T193000
DTEND;TZID=Europe/London:20260806T213000
DTSTAMP:20260421T001550
CREATED:20251229T135337Z
LAST-MODIFIED:20251229T135337Z
UID:73002-1786044600-1786051800@fowlmereparishcouncil.gov.uk
SUMMARY:Planning Committee Meeting
DESCRIPTION:**Please note that Planning Committee meetings may be cancelled if there are no planning applications to consider** \nPlease visit the meetings page for minutes and agendas
URL:https://fowlmereparishcouncil.gov.uk/event/planning-committee-meeting-30/
ORGANIZER;CN="Clerk":MAILTO:clerk@fowlmereparishcouncil.gov.uk
END:VEVENT
BEGIN:VEVENT
DTSTART;TZID=Europe/London:20260903T193000
DTEND;TZID=Europe/London:20260903T213000
DTSTAMP:20260421T001550
CREATED:20251229T135443Z
LAST-MODIFIED:20251229T135443Z
UID:73004-1788463800-1788471000@fowlmereparishcouncil.gov.uk
SUMMARY:Planning Committee Meeting
DESCRIPTION:**Please note that Planning Committee meetings may be cancelled if there are no planning applications to consider** \nPlease visit the meetings page for minutes and agendas
URL:https://fowlmereparishcouncil.gov.uk/event/planning-committee-meeting-31/
ORGANIZER;CN="Clerk":MAILTO:clerk@fowlmereparishcouncil.gov.uk
END:VEVENT
BEGIN:VEVENT
DTSTART;TZID=Europe/London:20260915T193000
DTEND;TZID=Europe/London:20260915T213000
DTSTAMP:20260421T001550
CREATED:20251229T134344Z
LAST-MODIFIED:20251229T134542Z
UID:72984-1789500600-1789507800@fowlmereparishcouncil.gov.uk
SUMMARY:Full Council Meeting
DESCRIPTION:Please visit the meetings page for minutes and agendas
URL:https://fowlmereparishcouncil.gov.uk/event/full-council-meeting-15/
ORGANIZER;CN="Clerk":MAILTO:clerk@fowlmereparishcouncil.gov.uk
END:VEVENT
BEGIN:VEVENT
DTSTART;TZID=Europe/London:20261006T193000
DTEND;TZID=Europe/London:20261006T213000
DTSTAMP:20260421T001550
CREATED:20251229T135535Z
LAST-MODIFIED:20251229T135535Z
UID:73006-1791315000-1791322200@fowlmereparishcouncil.gov.uk
SUMMARY:Planning Committee Meeting
DESCRIPTION:**Please note that Planning Committee meetings may be cancelled if there are no planning applications to consider** \nPlease visit the meetings page for minutes and agendas
URL:https://fowlmereparishcouncil.gov.uk/event/planning-committee-meeting-32/
ORGANIZER;CN="Clerk":MAILTO:clerk@fowlmereparishcouncil.gov.uk
END:VEVENT
BEGIN:VEVENT
DTSTART;TZID=Europe/London:20261105T193000
DTEND;TZID=Europe/London:20261105T213000
DTSTAMP:20260421T001550
CREATED:20251229T135631Z
LAST-MODIFIED:20251229T135631Z
UID:73008-1793907000-1793914200@fowlmereparishcouncil.gov.uk
SUMMARY:Planning Committee Meeting
DESCRIPTION:**Please note that Planning Committee meetings may be cancelled if there are no planning applications to consider** \nPlease visit the meetings page for minutes and agendas
URL:https://fowlmereparishcouncil.gov.uk/event/planning-committee-meeting-33/
ORGANIZER;CN="Clerk":MAILTO:clerk@fowlmereparishcouncil.gov.uk
END:VEVENT
BEGIN:VEVENT
DTSTART;TZID=Europe/London:20261117T080000
DTEND;TZID=Europe/London:20261117T170000
DTSTAMP:20260421T001550
CREATED:20251229T134420Z
LAST-MODIFIED:20251229T134440Z
UID:72986-1794902400-1794934800@fowlmereparishcouncil.gov.uk
SUMMARY:Full Council Meeting
DESCRIPTION:Please visit the meetings page for minutes and agendas
URL:https://fowlmereparishcouncil.gov.uk/event/full-council-meeting-16/
ORGANIZER;CN="Clerk":MAILTO:clerk@fowlmereparishcouncil.gov.uk
END:VEVENT
BEGIN:VEVENT
DTSTART;TZID=Europe/London:20261203T193000
DTEND;TZID=Europe/London:20261203T213000
DTSTAMP:20260421T001550
CREATED:20251229T135716Z
LAST-MODIFIED:20251229T135716Z
UID:73010-1796326200-1796333400@fowlmereparishcouncil.gov.uk
SUMMARY:Planning Committee Meeting
DESCRIPTION:**Please note that Planning Committee meetings may be cancelled if there are no planning applications to consider** \nPlease visit the meetings page for minutes and agendas
URL:https://fowlmereparishcouncil.gov.uk/event/planning-committee-meeting-34/
ORGANIZER;CN="Clerk":MAILTO:clerk@fowlmereparishcouncil.gov.uk
END:VEVENT
END:VCALENDAR