BEGIN:VCALENDAR
VERSION:2.0
PRODID:-//Fowlmere Parish Council - ECPv6.13.2.1//NONSGML v1.0//EN
CALSCALE:GREGORIAN
METHOD:PUBLISH
X-WR-CALNAME:Fowlmere Parish Council
X-ORIGINAL-URL:https://fowlmereparishcouncil.gov.uk
X-WR-CALDESC:Events for Fowlmere Parish Council
REFRESH-INTERVAL;VALUE=DURATION:PT1H
X-Robots-Tag:noindex
X-PUBLISHED-TTL:PT1H
BEGIN:VTIMEZONE
TZID:Europe/London
BEGIN:DAYLIGHT
TZOFFSETFROM:+0000
TZOFFSETTO:+0100
TZNAME:BST
DTSTART:20240331T010000
END:DAYLIGHT
BEGIN:STANDARD
TZOFFSETFROM:+0100
TZOFFSETTO:+0000
TZNAME:GMT
DTSTART:20241027T010000
END:STANDARD
BEGIN:DAYLIGHT
TZOFFSETFROM:+0000
TZOFFSETTO:+0100
TZNAME:BST
DTSTART:20250330T010000
END:DAYLIGHT
BEGIN:STANDARD
TZOFFSETFROM:+0100
TZOFFSETTO:+0000
TZNAME:GMT
DTSTART:20251026T010000
END:STANDARD
END:VTIMEZONE
BEGIN:VEVENT
DTSTART;TZID=Europe/London:20250114T193000
DTEND;TZID=Europe/London:20250114T213000
DTSTAMP:20260421T023331
CREATED:20241126T202008Z
LAST-MODIFIED:20241126T202008Z
UID:72067-1736883000-1736890200@fowlmereparishcouncil.gov.uk
SUMMARY:Planning Committee Meeting
DESCRIPTION:**Please note that Planning Committee meetings may be cancelled if there are no planning applications to consider** \nPlease visit the meetings page for minutes and agendas
URL:https://fowlmereparishcouncil.gov.uk/event/planning-committee-meeting-11/
CATEGORIES:Meetings
ORGANIZER;CN="Clerk":MAILTO:clerk@fowlmereparishcouncil.gov.uk
END:VEVENT
BEGIN:VEVENT
DTSTART;TZID=Europe/London:20241205T193000
DTEND;TZID=Europe/London:20241205T213000
DTSTAMP:20260421T023331
CREATED:20240313T115725Z
LAST-MODIFIED:20241126T193925Z
UID:70942-1733427000-1733434200@fowlmereparishcouncil.gov.uk
SUMMARY:Planning Committee Meeting
DESCRIPTION:Planning Committee Meeting\, Thursday 5th December\, 7.30pm Pavilion Room\, Village Hall. \n**Please note that Planning Committee meetings may be cancelled if there are no planning applications to consider** \nPlease visit the meetings page for minutes and agendas
URL:https://fowlmereparishcouncil.gov.uk/event/planning-committee-meeting-10/
LOCATION:Pavillion Room\, Fowlmere Village Hall
CATEGORIES:Meetings
END:VEVENT
BEGIN:VEVENT
DTSTART;TZID=Europe/London:20241203T193000
DTEND;TZID=Europe/London:20241203T193000
DTSTAMP:20260421T023331
CREATED:20241126T142222Z
LAST-MODIFIED:20241126T203151Z
UID:72024-1733254200-1733254200@fowlmereparishcouncil.gov.uk
SUMMARY:Finance Committee Meeting
DESCRIPTION:Finance Committee Meeting\, Tuesday 3rd December\, 7.30pm Dorothy Pluck Room\, St. Marys Church. \nPlease visit the meetings page for minutes and agendas
URL:https://fowlmereparishcouncil.gov.uk/event/finance-committee-meeting-3rd-december-2024/
LOCATION:St. Mary’s Church\, St Mary Fowlmere C of E Church\, Fowlmere
CATEGORIES:Meetings
END:VEVENT
BEGIN:VEVENT
DTSTART;TZID=Europe/London:20241128T100000
DTEND;TZID=Europe/London:20241128T110000
DTSTAMP:20260421T023331
CREATED:20240924T132246Z
LAST-MODIFIED:20240924T132246Z
UID:71843-1732788000-1732791600@fowlmereparishcouncil.gov.uk
SUMMARY:Mobile Food Hub every Thursday morning
DESCRIPTION:The Mobile Food Hub visits the Chequers Car Park on the EVERY Thursday bringing fresh produce and other essential items to Fowlmere to help with the cost of living crisis. A recent upgrade to the service sees a new larger van to accommodate a wider range of everyday essentials and shelving to give the service…
URL:https://fowlmereparishcouncil.gov.uk/event/mobile-food-hub-every-thursday-morning-15/
LOCATION:The Chequers\, The Chequers Fowlmere
ATTACH;FMTTYPE=image/jpeg:https://fowlmereparishcouncil.gov.uk/wp-content/uploads/2024/08/Food-Hub-poster-5x7-for-website.1.jpg
END:VEVENT
BEGIN:VEVENT
DTSTART;TZID=Europe/London:20241121T100000
DTEND;TZID=Europe/London:20241121T110000
DTSTAMP:20260421T023331
CREATED:20240924T132147Z
LAST-MODIFIED:20240924T132147Z
UID:71841-1732183200-1732186800@fowlmereparishcouncil.gov.uk
SUMMARY:Mobile Food Hub every Thursday morning
DESCRIPTION:The Mobile Food Hub visits the Chequers Car Park on the EVERY Thursday bringing fresh produce and other essential items to Fowlmere to help with the cost of living crisis. A recent upgrade to the service sees a new larger van to accommodate a wider range of everyday essentials and shelving to give the service…
URL:https://fowlmereparishcouncil.gov.uk/event/mobile-food-hub-every-thursday-morning-14/
LOCATION:The Chequers\, The Chequers Fowlmere
ATTACH;FMTTYPE=image/jpeg:https://fowlmereparishcouncil.gov.uk/wp-content/uploads/2024/08/Food-Hub-poster-5x7-for-website.1.jpg
END:VEVENT
BEGIN:VEVENT
DTSTART;TZID=Europe/London:20241114T193000
DTEND;TZID=Europe/London:20241114T213000
DTSTAMP:20260421T023331
CREATED:20240313T112938Z
LAST-MODIFIED:20240922T184053Z
UID:70915-1731612600-1731619800@fowlmereparishcouncil.gov.uk
SUMMARY:Full Council Meeting
DESCRIPTION:Please visit the meetings page for minutes and agendas
URL:https://fowlmereparishcouncil.gov.uk/event/full-council-meeting-4/
LOCATION:Pavillion Room\, Fowlmere Village Hall
END:VEVENT
BEGIN:VEVENT
DTSTART;TZID=Europe/London:20241114T100000
DTEND;TZID=Europe/London:20241114T110000
DTSTAMP:20260421T023331
CREATED:20240924T132055Z
LAST-MODIFIED:20240924T132055Z
UID:71838-1731578400-1731582000@fowlmereparishcouncil.gov.uk
SUMMARY:Mobile Food Hub every Thursday morning
DESCRIPTION:The Mobile Food Hub visits the Chequers Car Park on the EVERY Thursday bringing fresh produce and other essential items to Fowlmere to help with the cost of living crisis. A recent upgrade to the service sees a new larger van to accommodate a wider range of everyday essentials and shelving to give the service…
URL:https://fowlmereparishcouncil.gov.uk/event/mobile-food-hub-every-thursday-morning-13/
LOCATION:The Chequers\, The Chequers Fowlmere
ATTACH;FMTTYPE=image/jpeg:https://fowlmereparishcouncil.gov.uk/wp-content/uploads/2024/08/Food-Hub-poster-5x7-for-website.1.jpg
END:VEVENT
BEGIN:VEVENT
DTSTART;TZID=Europe/London:20241107T193000
DTEND;TZID=Europe/London:20241107T213000
DTSTAMP:20260421T023331
CREATED:20240313T115629Z
LAST-MODIFIED:20240313T151727Z
UID:70940-1731007800-1731015000@fowlmereparishcouncil.gov.uk
SUMMARY:Planning Committee Meeting
DESCRIPTION:Please note that Planning Committee meetings may be cancelled if there are no planning applications to consider. \nPlease visit the meetings page for minutes and agendas
URL:https://fowlmereparishcouncil.gov.uk/event/planning-committee-meeting-9/
LOCATION:Pavillion Room\, Fowlmere Village Hall
CATEGORIES:Meetings
END:VEVENT
BEGIN:VEVENT
DTSTART;TZID=Europe/London:20241107T100000
DTEND;TZID=Europe/London:20241107T110000
DTSTAMP:20260421T023331
CREATED:20240924T131828Z
LAST-MODIFIED:20240924T131828Z
UID:71836-1730973600-1730977200@fowlmereparishcouncil.gov.uk
SUMMARY:Mobile Food Hub every Thursday morning
DESCRIPTION:The Mobile Food Hub visits the Chequers Car Park on the EVERY Thursday bringing fresh produce and other essential items to Fowlmere to help with the cost of living crisis. A recent upgrade to the service sees a new larger van to accommodate a wider range of everyday essentials and shelving to give the service…
URL:https://fowlmereparishcouncil.gov.uk/event/mobile-food-hub-every-thursday-morning-12/
LOCATION:The Chequers\, The Chequers Fowlmere
ATTACH;FMTTYPE=image/jpeg:https://fowlmereparishcouncil.gov.uk/wp-content/uploads/2024/08/Food-Hub-poster-5x7-for-website.1.jpg
END:VEVENT
BEGIN:VEVENT
DTSTART;TZID=Europe/London:20241031T100000
DTEND;TZID=Europe/London:20241031T110000
DTSTAMP:20260421T023331
CREATED:20240924T124708Z
LAST-MODIFIED:20240924T124708Z
UID:71834-1730368800-1730372400@fowlmereparishcouncil.gov.uk
SUMMARY:Mobile Food Hub every Thursday morning
DESCRIPTION:The Mobile Food Hub visits the Chequers Car Park on the EVERY Thursday bringing fresh produce and other essential items to Fowlmere to help with the cost of living crisis. A recent upgrade to the service sees a new larger van to accommodate a wider range of everyday essentials and shelving to give the service…
URL:https://fowlmereparishcouncil.gov.uk/event/mobile-food-hub-every-thursday-morning-11/
LOCATION:The Chequers\, The Chequers Fowlmere
ATTACH;FMTTYPE=image/jpeg:https://fowlmereparishcouncil.gov.uk/wp-content/uploads/2024/08/Food-Hub-poster-5x7-for-website.1.jpg
END:VEVENT
BEGIN:VEVENT
DTSTART;TZID=Europe/London:20241024T100000
DTEND;TZID=Europe/London:20241024T110000
DTSTAMP:20260421T023331
CREATED:20240924T124603Z
LAST-MODIFIED:20240924T124603Z
UID:71832-1729764000-1729767600@fowlmereparishcouncil.gov.uk
SUMMARY:Mobile Food Hub every Thursday morning
DESCRIPTION:The Mobile Food Hub visits the Chequers Car Park on the EVERY Thursday bringing fresh produce and other essential items to Fowlmere to help with the cost of living crisis. A recent upgrade to the service sees a new larger van to accommodate a wider range of everyday essentials and shelving to give the service…
URL:https://fowlmereparishcouncil.gov.uk/event/mobile-food-hub-every-thursday-morning-10/
LOCATION:The Chequers\, The Chequers Fowlmere
ATTACH;FMTTYPE=image/jpeg:https://fowlmereparishcouncil.gov.uk/wp-content/uploads/2024/08/Food-Hub-poster-5x7-for-website.1.jpg
END:VEVENT
BEGIN:VEVENT
DTSTART;TZID=Europe/London:20241022T193000
DTEND;TZID=Europe/London:20241022T210000
DTSTAMP:20260421T023331
CREATED:20241017T183729Z
LAST-MODIFIED:20241017T183729Z
UID:71957-1729625400-1729630800@fowlmereparishcouncil.gov.uk
SUMMARY:Finance Committee Meeting 22nd October 2024
DESCRIPTION:Finance Committee Meeting\, Wednesday 22nd October\, 7.30pm Dorothy Pluck Room\, St. Marys Church.
URL:https://fowlmereparishcouncil.gov.uk/event/finance-committee-meeting-22nd-october-2024/
LOCATION:St. Mary’s Church\, St Mary Fowlmere C of E Church\, Fowlmere
END:VEVENT
BEGIN:VEVENT
DTSTART;TZID=Europe/London:20241017T100000
DTEND;TZID=Europe/London:20241017T110000
DTSTAMP:20260421T023331
CREATED:20240924T124506Z
LAST-MODIFIED:20240924T124506Z
UID:71830-1729159200-1729162800@fowlmereparishcouncil.gov.uk
SUMMARY:Mobile Food Hub every Thursday morning
DESCRIPTION:The Mobile Food Hub visits the Chequers Car Park on the EVERY Thursday bringing fresh produce and other essential items to Fowlmere to help with the cost of living crisis. A recent upgrade to the service sees a new larger van to accommodate a wider range of everyday essentials and shelving to give the service…
URL:https://fowlmereparishcouncil.gov.uk/event/mobile-food-hub-every-thursday-morning-9/
LOCATION:The Chequers\, The Chequers Fowlmere
ATTACH;FMTTYPE=image/jpeg:https://fowlmereparishcouncil.gov.uk/wp-content/uploads/2024/08/Food-Hub-poster-5x7-for-website.1.jpg
END:VEVENT
BEGIN:VEVENT
DTSTART;TZID=Europe/London:20241010T100000
DTEND;TZID=Europe/London:20241010T110000
DTSTAMP:20260421T023331
CREATED:20240924T124414Z
LAST-MODIFIED:20240924T124414Z
UID:71828-1728554400-1728558000@fowlmereparishcouncil.gov.uk
SUMMARY:Mobile Food Hub every Thursday morning
DESCRIPTION:The Mobile Food Hub visits the Chequers Car Park on the EVERY Thursday bringing fresh produce and other essential items to Fowlmere to help with the cost of living crisis. A recent upgrade to the service sees a new larger van to accommodate a wider range of everyday essentials and shelving to give the service…
URL:https://fowlmereparishcouncil.gov.uk/event/mobile-food-hub-every-thursday-morning-8/
LOCATION:The Chequers\, The Chequers Fowlmere
ATTACH;FMTTYPE=image/jpeg:https://fowlmereparishcouncil.gov.uk/wp-content/uploads/2024/08/Food-Hub-poster-5x7-for-website.1.jpg
END:VEVENT
BEGIN:VEVENT
DTSTART;TZID=Europe/London:20241003T193000
DTEND;TZID=Europe/London:20241003T213000
DTSTAMP:20260421T023331
CREATED:20240313T115530Z
LAST-MODIFIED:20240927T171939Z
UID:70938-1727983800-1727991000@fowlmereparishcouncil.gov.uk
SUMMARY:Planning Committee Meeting - CANCELLED
DESCRIPTION:Please note that Planning Committee meetings may be cancelled if there are no planning applications to consider. \nPlease visit the meetings page for minutes and agendas
URL:https://fowlmereparishcouncil.gov.uk/event/planning-committee-meeting-8/
LOCATION:Pavillion Room\, Fowlmere Village Hall
CATEGORIES:Meetings
END:VEVENT
BEGIN:VEVENT
DTSTART;TZID=Europe/London:20241003T100000
DTEND;TZID=Europe/London:20241003T110000
DTSTAMP:20260421T023331
CREATED:20240924T124239Z
LAST-MODIFIED:20240924T124239Z
UID:71826-1727949600-1727953200@fowlmereparishcouncil.gov.uk
SUMMARY:Mobile Food Hub every Thursday morning
DESCRIPTION:The Mobile Food Hub visits the Chequers Car Park on the EVERY Thursday bringing fresh produce and other essential items to Fowlmere to help with the cost of living crisis. A recent upgrade to the service sees a new larger van to accommodate a wider range of everyday essentials and shelving to give the service…
URL:https://fowlmereparishcouncil.gov.uk/event/mobile-food-hub-every-thursday-morning-7/
LOCATION:The Chequers\, The Chequers Fowlmere
ATTACH;FMTTYPE=image/jpeg:https://fowlmereparishcouncil.gov.uk/wp-content/uploads/2024/08/Food-Hub-poster-5x7-for-website.1.jpg
END:VEVENT
BEGIN:VEVENT
DTSTART;TZID=Europe/London:20240926T100000
DTEND;TZID=Europe/London:20240926T110000
DTSTAMP:20260421T023331
CREATED:20240814T133741Z
LAST-MODIFIED:20240814T133741Z
UID:71738-1727344800-1727348400@fowlmereparishcouncil.gov.uk
SUMMARY:Mobile Food Hub every Thursday morning
DESCRIPTION:The Mobile Food Hub visits the Chequers Car Park on the EVERY Thursday bringing fresh produce and other essential items to Fowlmere to help with the cost of living crisis. \nA recent upgrade to the service sees a new larger van to accommodate a wider range of everyday essentials and shelving to give the service a supermarket feel. \nEveryone is welcome to use this service.
URL:https://fowlmereparishcouncil.gov.uk/event/mobile-food-hub-every-thursday-morning-6/
LOCATION:The Chequers\, The Chequers Fowlmere
CATEGORIES:Village Events
ATTACH;FMTTYPE=image/jpeg:https://fowlmereparishcouncil.gov.uk/wp-content/uploads/2024/08/Food-Hub-poster-5x7-for-website.1.jpg
END:VEVENT
BEGIN:VEVENT
DTSTART;TZID=Europe/London:20240921T090000
DTEND;TZID=Europe/London:20240921T113000
DTSTAMP:20260421T023331
CREATED:20240319T001341Z
LAST-MODIFIED:20240506T143141Z
UID:71129-1726909200-1726918200@fowlmereparishcouncil.gov.uk
SUMMARY:Playgroup Thrift Sale
DESCRIPTION:
URL:https://fowlmereparishcouncil.gov.uk/event/playgroup-thrift-sale/
ATTACH;FMTTYPE=image/jpeg:https://fowlmereparishcouncil.gov.uk/wp-content/uploads/2024/03/Screenshot-2024-03-19-at-00.09.43.jpg
END:VEVENT
BEGIN:VEVENT
DTSTART;TZID=Europe/London:20240919T100000
DTEND;TZID=Europe/London:20240919T110000
DTSTAMP:20260421T023331
CREATED:20240814T133636Z
LAST-MODIFIED:20240814T133840Z
UID:71736-1726740000-1726743600@fowlmereparishcouncil.gov.uk
SUMMARY:Mobile Food Hub every Thursday morning
DESCRIPTION:The Mobile Food Hub visits the Chequers Car Park on the EVERY Thursday bringing fresh produce and other essential items to Fowlmere to help with the cost of living crisis. \nA recent upgrade to the service sees a new larger van to accommodate a wider range of everyday essentials and shelving to give the service a supermarket feel. \nEveryone is welcome to use this service.
URL:https://fowlmereparishcouncil.gov.uk/event/mobile-food-hub-every-thursday-morning-5/
LOCATION:The Chequers\, The Chequers Fowlmere
CATEGORIES:Village Events
ATTACH;FMTTYPE=image/jpeg:https://fowlmereparishcouncil.gov.uk/wp-content/uploads/2024/08/Food-Hub-poster-5x7-for-website.1.jpg
END:VEVENT
BEGIN:VEVENT
DTSTART;TZID=Europe/London:20240917T193000
DTEND;TZID=Europe/London:20240917T213000
DTSTAMP:20260421T023331
CREATED:20240313T112833Z
LAST-MODIFIED:20240506T143058Z
UID:70913-1726601400-1726608600@fowlmereparishcouncil.gov.uk
SUMMARY:Full Council Meeting
DESCRIPTION:Please visit the meetings page for minutes and agendas
URL:https://fowlmereparishcouncil.gov.uk/event/full-council-meeting-3/
LOCATION:Pavillion Room\, Fowlmere Village Hall
CATEGORIES:Meetings
END:VEVENT
BEGIN:VEVENT
DTSTART;TZID=Europe/London:20240912T100000
DTEND;TZID=Europe/London:20240912T110000
DTSTAMP:20260421T023331
CREATED:20240814T133537Z
LAST-MODIFIED:20240814T133537Z
UID:71734-1726135200-1726138800@fowlmereparishcouncil.gov.uk
SUMMARY:Mobile Food Hub every Thursday morning
DESCRIPTION:The Mobile Food Hub visits the Chequers Car Park on the EVERY Thursday bringing fresh produce and other essential items to Fowlmere to help with the cost of living crisis. \nA recent upgrade to the service sees a new larger van to accommodate a wider range of everyday essentials and shelving to give the service a supermarket feel. \nEveryone is welcome to use this service.
URL:https://fowlmereparishcouncil.gov.uk/event/mobile-food-hub-every-thursday-morning-4/
LOCATION:The Chequers\, The Chequers Fowlmere
CATEGORIES:Village Events
ATTACH;FMTTYPE=image/jpeg:https://fowlmereparishcouncil.gov.uk/wp-content/uploads/2024/08/Food-Hub-poster-5x7-for-website.1.jpg
END:VEVENT
BEGIN:VEVENT
DTSTART;TZID=Europe/London:20240910T193000
DTEND;TZID=Europe/London:20240910T213000
DTSTAMP:20260421T023331
CREATED:20240313T115430Z
LAST-MODIFIED:20240506T143035Z
UID:70936-1725996600-1726003800@fowlmereparishcouncil.gov.uk
SUMMARY:Planning Committee Meeting
DESCRIPTION:Please note that Planning Committee meetings may be cancelled if there are no planning applications to consider. \nPlease visit the meetings page for minutes and agendas
URL:https://fowlmereparishcouncil.gov.uk/event/planning-committee-meeting-7/
LOCATION:Pavillion Room\, Fowlmere Village Hall
CATEGORIES:Meetings
END:VEVENT
BEGIN:VEVENT
DTSTART;TZID=Europe/London:20240905T100000
DTEND;TZID=Europe/London:20240905T110000
DTSTAMP:20260421T023331
CREATED:20240814T133359Z
LAST-MODIFIED:20240814T133418Z
UID:71731-1725530400-1725534000@fowlmereparishcouncil.gov.uk
SUMMARY:Mobile Food Hub every Thursday morning
DESCRIPTION:The Mobile Food Hub visits the Chequers Car Park on the EVERY Thursday bringing fresh produce and other essential items to Fowlmere to help with the cost of living crisis. \nA recent upgrade to the service sees a new larger van to accommodate a wider range of everyday essentials and shelving to give the service a supermarket feel. \nEveryone is welcome to use this service.
URL:https://fowlmereparishcouncil.gov.uk/event/mobile-food-hub-every-thursday-morning-3/
LOCATION:The Chequers\, The Chequers Fowlmere
CATEGORIES:Village Events
ATTACH;FMTTYPE=image/jpeg:https://fowlmereparishcouncil.gov.uk/wp-content/uploads/2024/08/Food-Hub-poster-5x7-for-website.1.jpg
END:VEVENT
BEGIN:VEVENT
DTSTART;TZID=Europe/London:20240829T100000
DTEND;TZID=Europe/London:20240829T110000
DTSTAMP:20260421T023331
CREATED:20240814T132800Z
LAST-MODIFIED:20240814T132800Z
UID:71729-1724925600-1724929200@fowlmereparishcouncil.gov.uk
SUMMARY:Mobile Food Hub every Thursday morning
DESCRIPTION:The Mobile Food Hub visits the Chequers Car Park on the EVERY Thursday bringing fresh produce and other essential items to Fowlmere to help with the cost of living crisis. \nA recent upgrade to the service sees a new larger van to accommodate a wider range of everyday essentials and shelving to give the service a supermarket feel. \nEveryone is welcome to use this service.
URL:https://fowlmereparishcouncil.gov.uk/event/mobile-food-hub-every-thursday-morning-2/
LOCATION:The Chequers\, The Chequers Fowlmere
CATEGORIES:Village Events
ATTACH;FMTTYPE=image/jpeg:https://fowlmereparishcouncil.gov.uk/wp-content/uploads/2024/08/Food-Hub-poster-5x7-for-website.1.jpg
END:VEVENT
BEGIN:VEVENT
DTSTART;TZID=Europe/London:20240822T100000
DTEND;TZID=Europe/London:20240822T110000
DTSTAMP:20260421T023331
CREATED:20240814T132011Z
LAST-MODIFIED:20240814T132554Z
UID:71726-1724320800-1724324400@fowlmereparishcouncil.gov.uk
SUMMARY:Mobile Food Hub every Thursday morning
DESCRIPTION:The Mobile Food Hub visits the Chequers Car Park on the EVERY Thursday bringing fresh produce and other essential items to Fowlmere to help with the cost of living crisis. \nA recent upgrade to the service sees a new larger van to accommodate a wider range of everyday essentials and shelving to give the service a supermarket feel. \nEveryone is welcome to use this service.
URL:https://fowlmereparishcouncil.gov.uk/event/mobile-food-hub-every-thursday-morning/
LOCATION:The Chequers\, The Chequers Fowlmere
CATEGORIES:Village Events
ATTACH;FMTTYPE=image/jpeg:https://fowlmereparishcouncil.gov.uk/wp-content/uploads/2024/08/Food-Hub-poster-5x7-for-website.1.jpg
END:VEVENT
BEGIN:VEVENT
DTSTART;TZID=Europe/London:20240815T100000
DTEND;TZID=Europe/London:20240815T110000
DTSTAMP:20260421T023331
CREATED:20240314T003837Z
LAST-MODIFIED:20240814T131331Z
UID:71003-1723716000-1723719600@fowlmereparishcouncil.gov.uk
SUMMARY:Mobile Food Hub every Thursday morning
DESCRIPTION:The Mobile Food Hub visits the Chequers Car Park on the EVERY Thursday bringing fresh produce and other essential items to Fowlmere to help with the cost of living crisis. \nA recent upgrade to the service sees a new larger van to accommodate a wider range of everyday essentials and shelving to give the service a supermarket feel. \nEveryone is welcome to use this service.
URL:https://fowlmereparishcouncil.gov.uk/event/mobile-food-hub-11/
LOCATION:The Chequers\, The Chequers Fowlmere
CATEGORIES:Village Events
ATTACH;FMTTYPE=image/jpeg:https://fowlmereparishcouncil.gov.uk/wp-content/uploads/2024/08/Food-Hub-poster-5x7-for-website.1.jpg
END:VEVENT
BEGIN:VEVENT
DTSTART;TZID=Europe/London:20240806T193000
DTEND;TZID=Europe/London:20240806T213000
DTSTAMP:20260421T023331
CREATED:20240313T115336Z
LAST-MODIFIED:20240624T154143Z
UID:70934-1722972600-1722979800@fowlmereparishcouncil.gov.uk
SUMMARY:Planning Committee Meeting
DESCRIPTION:Please note that Planning Committee meetings may be cancelled if there are no planning applications to consider. \nPlease visit the meetings page for minutes and agendas
URL:https://fowlmereparishcouncil.gov.uk/event/planning-committee-meeting-6/
LOCATION:Pavillion Room\, Fowlmere Village Hall
CATEGORIES:Meetings
END:VEVENT
BEGIN:VEVENT
DTSTART;TZID=Europe/London:20240801T100000
DTEND;TZID=Europe/London:20240801T230000
DTSTAMP:20260421T023331
CREATED:20240314T003753Z
LAST-MODIFIED:20240506T142924Z
UID:71001-1722506400-1722553200@fowlmereparishcouncil.gov.uk
SUMMARY:Mobile Food Hub
DESCRIPTION:The Mobile Food Hub visits the Chequers Car Park on the 1st and 3rd Thursday every month bringing fresh produce and other essential items to Fowlmere to help fight the cost of living crisis. Everyone is welcome to use this service.
URL:https://fowlmereparishcouncil.gov.uk/event/mobile-food-hub-10/
LOCATION:The Chequers\, The Chequers Fowlmere
CATEGORIES:Village Events
ATTACH;FMTTYPE=image/jpeg:https://fowlmereparishcouncil.gov.uk/wp-content/uploads/2024/03/Screenshot-2024-03-13-at-18.40.27.jpg
END:VEVENT
BEGIN:VEVENT
DTSTART;TZID=Europe/London:20240731T193000
DTEND;TZID=Europe/London:20240731T220000
DTSTAMP:20260421T023331
CREATED:20240717T111722Z
LAST-MODIFIED:20240717T111722Z
UID:71631-1722454200-1722463200@fowlmereparishcouncil.gov.uk
SUMMARY:Finance Committee Meeting 31st July 2024
DESCRIPTION:Finance Committee Meeting\, Wednesday 31st July\, 7.30pm Pavilion Room\, Fowlmere Village Hall.
URL:https://fowlmereparishcouncil.gov.uk/event/finance-committee-meeting-31st-july-2024/
END:VEVENT
BEGIN:VEVENT
DTSTART;TZID=Europe/London:20240718T193000
DTEND;TZID=Europe/London:20240718T213000
DTSTAMP:20260421T023331
CREATED:20240313T112736Z
LAST-MODIFIED:20240627T131508Z
UID:70911-1721331000-1721338200@fowlmereparishcouncil.gov.uk
SUMMARY:Full Council Meeting
DESCRIPTION:Please visit the meetings page for minutes and agendas
URL:https://fowlmereparishcouncil.gov.uk/event/full-council-meeting-2/
LOCATION:Pavillion Room\, Fowlmere Village Hall
CATEGORIES:Meetings
END:VEVENT
END:VCALENDAR