BEGIN:VCALENDAR
VERSION:2.0
PRODID:-//Fowlmere Parish Council - ECPv6.13.2.1//NONSGML v1.0//EN
CALSCALE:GREGORIAN
METHOD:PUBLISH
X-WR-CALNAME:Fowlmere Parish Council
X-ORIGINAL-URL:https://fowlmereparishcouncil.gov.uk
X-WR-CALDESC:Events for Fowlmere Parish Council
REFRESH-INTERVAL;VALUE=DURATION:PT1H
X-Robots-Tag:noindex
X-PUBLISHED-TTL:PT1H
BEGIN:VTIMEZONE
TZID:Europe/London
BEGIN:DAYLIGHT
TZOFFSETFROM:+0000
TZOFFSETTO:+0100
TZNAME:BST
DTSTART:20240331T010000
END:DAYLIGHT
BEGIN:STANDARD
TZOFFSETFROM:+0100
TZOFFSETTO:+0000
TZNAME:GMT
DTSTART:20241027T010000
END:STANDARD
END:VTIMEZONE
BEGIN:VEVENT
DTSTART;TZID=Europe/London:20240321T100000
DTEND;TZID=Europe/London:20240321T230000
DTSTAMP:20260421T091930
CREATED:20240313T184441Z
LAST-MODIFIED:20240314T002746Z
UID:70980-1711015200-1711062000@fowlmereparishcouncil.gov.uk
SUMMARY:Mobile Food Hub
DESCRIPTION:The Mobile Food Hub visits the Chequers Car Park on the 1st and 3rd Thursday every month bringing fresh produce and other essential items to Fowlmere to help fight the cost of living crisis. Everyone is welcome to use this service.
URL:https://fowlmereparishcouncil.gov.uk/event/mobile-food-hub/
LOCATION:The Chequers\, The Chequers Fowlmere
ATTACH;FMTTYPE=image/jpeg:https://fowlmereparishcouncil.gov.uk/wp-content/uploads/2024/03/Screenshot-2024-03-13-at-18.40.27.jpg
END:VEVENT
BEGIN:VEVENT
DTSTART;TZID=Europe/London:20240319T193000
DTEND;TZID=Europe/London:20240319T213000
DTSTAMP:20260421T091930
CREATED:20240313T111726Z
LAST-MODIFIED:20240313T114155Z
UID:70902-1710876600-1710883800@fowlmereparishcouncil.gov.uk
SUMMARY:Full Council Meeting
DESCRIPTION:Please visit the meetings page for minutes and agendas
URL:https://fowlmereparishcouncil.gov.uk/event/70902/
LOCATION:Pavillion Room\, Fowlmere Village Hall
CATEGORIES:Meetings
END:VEVENT
BEGIN:VEVENT
DTSTART;TZID=Europe/London:20240307T193000
DTEND;TZID=Europe/London:20240307T213000
DTSTAMP:20260421T091930
CREATED:20240313T114807Z
LAST-MODIFIED:20240313T124004Z
UID:70924-1709839800-1709847000@fowlmereparishcouncil.gov.uk
SUMMARY:Planning Committee Meeting
DESCRIPTION:Please note that Planning Committee meetings may be cancelled if there are no planning allocations to consider. \nPlease visit the meetings page for minutes and agendas
URL:https://fowlmereparishcouncil.gov.uk/event/planning-committee-meeting/
LOCATION:Pavillion Room\, Fowlmere Village Hall
CATEGORIES:Meetings
END:VEVENT
END:VCALENDAR