BEGIN:VCALENDAR
VERSION:2.0
PRODID:-//Fowlmere Parish Council - ECPv6.13.2.1//NONSGML v1.0//EN
CALSCALE:GREGORIAN
METHOD:PUBLISH
X-ORIGINAL-URL:https://fowlmereparishcouncil.gov.uk
X-WR-CALDESC:Events for Fowlmere Parish Council
REFRESH-INTERVAL;VALUE=DURATION:PT1H
X-Robots-Tag:noindex
X-PUBLISHED-TTL:PT1H
BEGIN:VTIMEZONE
TZID:Europe/London
BEGIN:DAYLIGHT
TZOFFSETFROM:+0000
TZOFFSETTO:+0100
TZNAME:BST
DTSTART:20250330T010000
END:DAYLIGHT
BEGIN:STANDARD
TZOFFSETFROM:+0100
TZOFFSETTO:+0000
TZNAME:GMT
DTSTART:20251026T010000
END:STANDARD
END:VTIMEZONE
BEGIN:VEVENT
DTSTART;TZID=Europe/London:20251106T193000
DTEND;TZID=Europe/London:20251106T213000
DTSTAMP:20260421T001148
CREATED:20241126T202752Z
LAST-MODIFIED:20241126T202752Z
UID:72087-1762457400-1762464600@fowlmereparishcouncil.gov.uk
SUMMARY:Planning Committee Meeting
DESCRIPTION:**Please note that Planning Committee meetings may be cancelled if there are no planning applications to consider** \nPlease visit the meetings page for minutes and agendas
URL:https://fowlmereparishcouncil.gov.uk/event/planning-committee-meeting-21/
CATEGORIES:Meetings
ORGANIZER;CN="Clerk":MAILTO:clerk@fowlmereparishcouncil.gov.uk
END:VEVENT
BEGIN:VEVENT
DTSTART;TZID=Europe/London:20251118T193000
DTEND;TZID=Europe/London:20251118T213000
DTSTAMP:20260421T001148
CREATED:20241126T201053Z
LAST-MODIFIED:20241126T201729Z
UID:72059-1763494200-1763501400@fowlmereparishcouncil.gov.uk
SUMMARY:Full Council Meeting
DESCRIPTION:Please visit the meetings page for minutes and agendas
URL:https://fowlmereparishcouncil.gov.uk/event/full-council-meeting-10/
CATEGORIES:Meetings
ORGANIZER;CN="Clerk":MAILTO:clerk@fowlmereparishcouncil.gov.uk
END:VEVENT
END:VCALENDAR