BEGIN:VCALENDAR
VERSION:2.0
PRODID:-//Fowlmere Parish Council - ECPv6.13.2.1//NONSGML v1.0//EN
CALSCALE:GREGORIAN
METHOD:PUBLISH
X-ORIGINAL-URL:https://fowlmereparishcouncil.gov.uk
X-WR-CALDESC:Events for Fowlmere Parish Council
REFRESH-INTERVAL;VALUE=DURATION:PT1H
X-Robots-Tag:noindex
X-PUBLISHED-TTL:PT1H
BEGIN:VTIMEZONE
TZID:Europe/London
BEGIN:DAYLIGHT
TZOFFSETFROM:+0000
TZOFFSETTO:+0100
TZNAME:BST
DTSTART:20260329T010000
END:DAYLIGHT
BEGIN:STANDARD
TZOFFSETFROM:+0100
TZOFFSETTO:+0000
TZNAME:GMT
DTSTART:20261025T010000
END:STANDARD
END:VTIMEZONE
BEGIN:VEVENT
DTSTART;TZID=Europe/London:20260505T193000
DTEND;TZID=Europe/London:20260505T213000
DTSTAMP:20260420T174441
CREATED:20251229T135038Z
LAST-MODIFIED:20251229T135038Z
UID:72996-1778009400-1778016600@fowlmereparishcouncil.gov.uk
SUMMARY:Planning Committee Meeting
DESCRIPTION:**Please note that Planning Committee meetings may be cancelled if there are no planning applications to consider** \nPlease visit the meetings page for minutes and agendas
URL:https://fowlmereparishcouncil.gov.uk/event/planning-committee-meeting-27/
LOCATION:Pavillion Room\, Fowlmere Village Hall
ORGANIZER;CN="Clerk":MAILTO:clerk@fowlmereparishcouncil.gov.uk
END:VEVENT
BEGIN:VEVENT
DTSTART;TZID=Europe/London:20260519T193000
DTEND;TZID=Europe/London:20260519T213000
DTSTAMP:20260420T174441
CREATED:20251229T134221Z
LAST-MODIFIED:20251229T134221Z
UID:72980-1779219000-1779226200@fowlmereparishcouncil.gov.uk
SUMMARY:Full Council Meeting
DESCRIPTION:Please visit the meetings page for minutes and agendas
URL:https://fowlmereparishcouncil.gov.uk/event/full-council-meeting-13/
LOCATION:Pavillion Room\, Fowlmere Village Hall
ORGANIZER;CN="Clerk":MAILTO:clerk@fowlmereparishcouncil.gov.uk
END:VEVENT
END:VCALENDAR